BEGIN:VCALENDAR
VERSION:2.0
PRODID:-//ChamberMaster//Event Calendar 2.0//EN
METHOD:PUBLISH
X-PUBLISHED-TTL:P3D
REFRESH-INTERVAL:P3D
CALSCALE:GREGORIAN
BEGIN:VEVENT
DTSTART:20190911T230000Z
DTEND:20190912T000000Z
X-MICROSOFT-CDO-ALLDAYEVENT:FALSE
SUMMARY:CLFD September 11th Memorial
DESCRIPTION:Clear Lake Fire Department\n\n9/11 Memorial Event "NEVER FORGET"\n\n\n\nThe Clear Lake Fire Department will be hosting a 9/11 Memorial on Wednesday September 11th\, 2019 outside the Clear Lake Fire station at the World Trade Center Memorial Steel. The event will include music by the Clear Lake High School Band\, a flag raising ceremony\, placement of the helmets ceremony\, and a guest speaker. This year's guest speaker is Clear Lake City Councilman Bennett Smith. Smith is a history and political science instructor at North Iowa Area Community College. Also featured again at this years ceremony Mike McGuire will be playing the Bagpipes.\n\n\n\nTentative Schedule\n\n\n\n6:00   CLHS Marching Band\n\n6:10   Flag Raising\n\n6:15 - Helmet tribute for those killed on 9/11/2001\n\n6:30   Guest Speaker Bennett Smith
X-ALT-DESC;FMTTYPE=text/html:<span style="color: rgb(29\, 33\, 41)\; font-family: Helvetica\, Arial\, sans-serif\; font-size: 14px\; white-space: pre-wrap\; background-color: rgb(255\, 255\, 255)\;">Clear Lake Fire Department</span><br style="color: rgb(29\, 33\, 41)\; font-family: Helvetica\, Arial\, sans-serif\; font-size: 14px\; white-space: pre-wrap\; background-color: rgb(255\, 255\, 255)\;" />\n<span style="color: rgb(29\, 33\, 41)\; font-family: Helvetica\, Arial\, sans-serif\; font-size: 14px\; white-space: pre-wrap\; background-color: rgb(255\, 255\, 255)\;">9/11 Memorial Event &ldquo\;NEVER FORGET&rdquo\;</span><br style="color: rgb(29\, 33\, 41)\; font-family: Helvetica\, Arial\, sans-serif\; font-size: 14px\; white-space: pre-wrap\; background-color: rgb(255\, 255\, 255)\;" />\n<br style="color: rgb(29\, 33\, 41)\; font-family: Helvetica\, Arial\, sans-serif\; font-size: 14px\; white-space: pre-wrap\; background-color: rgb(255\, 255\, 255)\;" />\n<span style="color: rgb(29\, 33\, 41)\; font-family: Helvetica\, Arial\, sans-serif\; font-size: 14px\; white-space: pre-wrap\; background-color: rgb(255\, 255\, 255)\;">The Clear Lake Fire Department will be hosting a 9/11 Memorial on Wednesday September 11th\, 2019 outside the Clear Lake Fire station at the World Trade Center Memorial Steel. The event will include music by the Clear Lake High School Band\, a flag raising ceremony\, placement of the helmets ceremony\, and a guest speaker. This year&rsquo\;s guest speaker is Clear Lake City Councilman Bennett Smith. Smith is a history and political science instructor at North Iowa Area Community College. Also featured again at this years ceremony Mike McGuire will be playing the Bagpipes.</span><br style="color: rgb(29\, 33\, 41)\; font-family: Helvetica\, Arial\, sans-serif\; font-size: 14px\; white-space: pre-wrap\; background-color: rgb(255\, 255\, 255)\;" />\n<br style="color: rgb(29\, 33\, 41)\; font-family: Helvetica\, Arial\, sans-serif\; font-size: 14px\; white-space: pre-wrap\; background-color: rgb(255\, 255\, 255)\;" />\n<span style="color: rgb(29\, 33\, 41)\; font-family: Helvetica\, Arial\, sans-serif\; font-size: 14px\; white-space: pre-wrap\; background-color: rgb(255\, 255\, 255)\;">Tentative Schedule</span><br style="color: rgb(29\, 33\, 41)\; font-family: Helvetica\, Arial\, sans-serif\; font-size: 14px\; white-space: pre-wrap\; background-color: rgb(255\, 255\, 255)\;" />\n<br style="color: rgb(29\, 33\, 41)\; font-family: Helvetica\, Arial\, sans-serif\; font-size: 14px\; white-space: pre-wrap\; background-color: rgb(255\, 255\, 255)\;" />\n<span style="color: rgb(29\, 33\, 41)\; font-family: Helvetica\, Arial\, sans-serif\; font-size: 14px\; white-space: pre-wrap\; background-color: rgb(255\, 255\, 255)\;">6:00 &ndash\; CLHS Marching Band</span><br style="color: rgb(29\, 33\, 41)\; font-family: Helvetica\, Arial\, sans-serif\; font-size: 14px\; white-space: pre-wrap\; background-color: rgb(255\, 255\, 255)\;" />\n<span style="color: rgb(29\, 33\, 41)\; font-family: Helvetica\, Arial\, sans-serif\; font-size: 14px\; white-space: pre-wrap\; background-color: rgb(255\, 255\, 255)\;">6:10 &ndash\; Flag Raising</span><br style="color: rgb(29\, 33\, 41)\; font-family: Helvetica\, Arial\, sans-serif\; font-size: 14px\; white-space: pre-wrap\; background-color: rgb(255\, 255\, 255)\;" />\n<span style="color: rgb(29\, 33\, 41)\; font-family: Helvetica\, Arial\, sans-serif\; font-size: 14px\; white-space: pre-wrap\; background-color: rgb(255\, 255\, 255)\;">6:15 - Helmet tribute for those killed on 9/11/2001</span><br style="color: rgb(29\, 33\, 41)\; font-family: Helvetica\, Arial\, sans-serif\; font-size: 14px\; white-space: pre-wrap\; background-color: rgb(255\, 255\, 255)\;" />\n<span style="color: rgb(29\, 33\, 41)\; font-family: Helvetica\, Arial\, sans-serif\; font-size: 14px\; white-space: pre-wrap\; background-color: rgb(255\, 255\, 255)\;">6:30 &ndash\; Guest Speaker Bennett Smith</span>
LOCATION:Clear Lake Fire Department
UID:e.1102.732283
SEQUENCE:3
DTSTAMP:20260421T201742Z
URL:https://members.clearlakeiowa.com/events/details/clfd-september-11th-memorial-732283
END:VEVENT

END:VCALENDAR
