BEGIN:VCALENDAR
VERSION:2.0
PRODID:-//ChamberMaster//Event Calendar 2.0//EN
METHOD:PUBLISH
X-PUBLISHED-TTL:P3D
REFRESH-INTERVAL:P3D
CALSCALE:GREGORIAN
BEGIN:VEVENT
DTSTART:20211028T233000Z
DTEND:20211029T003000Z
X-MICROSOFT-CDO-ALLDAYEVENT:FALSE
SUMMARY:Clear Lake School Board Candidate Forum
DESCRIPTION:The Clear Lake Mirror-Reporter and Clear Lake Area Chamber of Commerce will host a public forum for Clear Lake School Board candidates Thursday\, Oct. 28.  Tony Brownlee\, Chyrl Bergvig and Greg Southgate have agreed to participate in the hour-long event at the City Hall Community Room.\n\nThe forum\, set to take place from 6:30-7:30 p.m.\, will be videotaped for on-line viewing and live-streamed on Facebook. The public is encouraged to attend in person and an opportunity will be given for the public to submit questions to candidates.\n\nThe forum moderator will be Troyce Fisher\, a Clear Lake resident who is retired from a 43-year career in education\, most in administration\, most recently as executive director of the School Administrators of Iowa.\n\nThere will be two rounds of questions for candidates.  The first round will consist of each being asked the same five questions.  All five questions center around the major responsibilities of a board of education: establishing a vision of learning for all\, enacting policy\, and providing fiduciary oversight and sound financial policies.  There will be no questions about past board decisions.   \n\nRound Two will be questions posed by those in attendance who have submitted them on index cards.  Each candidate will also be allowed to make a final statement.\n\nThe municipal election for the School Board race takes place on Tuesday\, Nov. 2.
X-ALT-DESC;FMTTYPE=text/html:<p class="p1" style="margin: 0px 0px 15px\; color: rgb(82\, 82\, 82)\; font-family: &quot\;Open Sans&quot\;\; font-size: 14px\; background-color: rgb(236\, 236\, 235)\;"><big>The Clear Lake Mirror-Reporter and Clear Lake Area Chamber of Commerce will host a public forum for Clear Lake School Board candidates Thursday\, Oct. 28.<span>&nbsp\;&nbsp\;</span>Tony Brownlee\, Chyrl Bergvig and Greg Southgate have agreed to participate in the hour-long event at the City Hall Community Room.</big></p>\n\n<p class="p1" style="margin: 0px 0px 15px\; color: rgb(82\, 82\, 82)\; font-family: &quot\;Open Sans&quot\;\; font-size: 14px\; background-color: rgb(236\, 236\, 235)\;"><big>The forum\, set to take place from 6:30-7:30 p.m.\, will be videotaped for on-line viewing and live-streamed on Facebook. The public is encouraged to attend in person and an opportunity will be given for the public to submit questions to candidates.</big></p>\n\n<p class="p1" style="margin: 0px 0px 15px\; color: rgb(82\, 82\, 82)\; font-family: &quot\;Open Sans&quot\;\; font-size: 14px\; background-color: rgb(236\, 236\, 235)\;"><big>The forum moderator will be Troyce Fisher\, a Clear Lake resident who is retired from a 43-year career in education\, most in administration\, most recently as executive director of the School Administrators of Iowa.</big></p>\n\n<p class="p1" style="margin: 0px 0px 15px\; color: rgb(82\, 82\, 82)\; font-family: &quot\;Open Sans&quot\;\; font-size: 14px\; background-color: rgb(236\, 236\, 235)\;"><big>There will be two rounds of questions for candidates.<span>&nbsp\;&nbsp\;</span>The first round will consist of each being asked the same five questions.<span>&nbsp\;&nbsp\;</span>All five questions center around the major responsibilities of a board of education: establishing a vision of learning for all\, enacting policy\, and providing fiduciary oversight and sound financial policies.<span>&nbsp\;&nbsp\;</span>There will be no questions about past board decisions.<span>&nbsp\; &nbsp\;</span></big></p>\n\n<p class="p1" style="margin: 0px 0px 15px\; color: rgb(82\, 82\, 82)\; font-family: &quot\;Open Sans&quot\;\; font-size: 14px\; background-color: rgb(236\, 236\, 235)\;"><big>Round Two will be questions posed by those in attendance who have submitted them on index cards.<span>&nbsp\;&nbsp\;</span>Each candidate will also be allowed to make a final statement.</big></p>\n\n<p class="p1" style="margin: 0px 0px 15px\; color: rgb(82\, 82\, 82)\; font-family: &quot\;Open Sans&quot\;\; font-size: 14px\; background-color: rgb(236\, 236\, 235)\;"><big>The municipal election for the School Board race takes place on Tuesday\, Nov. 2.</big></p>\n
LOCATION:Clear Lake City Hall
UID:e.1102.733990
SEQUENCE:3
DTSTAMP:20260423T140910Z
URL:https://members.clearlakeiowa.com/events/details/clear-lake-school-board-candidate-forum-733990
END:VEVENT

END:VCALENDAR
