BEGIN:VCALENDAR
VERSION:2.0
PRODID:-//ChamberMaster//Event Calendar 2.0//EN
METHOD:PUBLISH
X-PUBLISHED-TTL:P3D
REFRESH-INTERVAL:P3D
CALSCALE:GREGORIAN
BEGIN:VEVENT
DTSTART:20191210T001500Z
DTEND:20191210T011500Z
X-MICROSOFT-CDO-ALLDAYEVENT:FALSE
SUMMARY:Clear Lake Jaycees
DESCRIPTION:Returning to Clear Lake after several years of being a joint group with Mason City\, the Clear Lake Jaycees are back. We meet the second Monday every month.
X-ALT-DESC;FMTTYPE=text/html:<span style="color: rgb(51\, 51\, 51)\; font-family: 'lucida grande'\, tahoma\, verdana\, arial\, sans-serif\; font-size: 11px\; line-height: 14px\;">Returning to Clear Lake after several years of being a joint group with Mason City\, the Clear Lake Jaycees are back. We meet the second Monday every month.</span>
LOCATION:
UID:e.1102.725788
SEQUENCE:3
DTSTAMP:20260421T161031Z
URL:https://members.clearlakeiowa.com/events/details/clear-lake-jaycees-12-09-2019-725788
END:VEVENT

END:VCALENDAR
