BEGIN:VCALENDAR
VERSION:2.0
PRODID:-//ChamberMaster//Event Calendar 2.0//EN
METHOD:PUBLISH
X-PUBLISHED-TTL:P3D
REFRESH-INTERVAL:P3D
CALSCALE:GREGORIAN
BEGIN:VEVENT
DTSTART:20191020T223000Z
DTEND:20191021T003000Z
X-MICROSOFT-CDO-ALLDAYEVENT:FALSE
SUMMARY:Clear Lake FFA'S HARVEST CELEBRATION
DESCRIPTION:Clear Lake FFA'S Harvest Celebration\n\nFree Meal will be served with a program to follow\n\nProgram includes presentation of Official Charter and FFA Jackets\n\nRSVP through Clear Lake AG ED & FFA Facebook or email Ms. Russ at eruss@clearlakeschools.org
X-ALT-DESC;FMTTYPE=text/html:Clear Lake FFA&#39\;S Harvest Celebration<br />\nFree Meal will be served with a program to follow<br />\nProgram includes presentation of Official Charter and FFA Jackets<br />\nRSVP through Clear Lake AG ED &amp\; FFA Facebook or email Ms. Russ at eruss@clearlakeschools.org
LOCATION:Clear Lake High School Cafeteria 125 N 20th Street
UID:e.1102.732403
SEQUENCE:3
DTSTAMP:20260421T184518Z
URL:https://members.clearlakeiowa.com/events/details/clear-lake-ffa-s-harvest-celebration-732403
END:VEVENT

END:VCALENDAR
