BEGIN:VCALENDAR
VERSION:2.0
PRODID:-//ChamberMaster//Event Calendar 2.0//EN
METHOD:PUBLISH
X-PUBLISHED-TTL:P3D
REFRESH-INTERVAL:P3D
CALSCALE:GREGORIAN
BEGIN:VEVENT
DTSTART:20191225T173000Z
DTEND:20191225T193000Z
X-MICROSOFT-CDO-ALLDAYEVENT:FALSE
SUMMARY:Clear Lake Community Christmas Dinner
DESCRIPTION:You are invited to the Clear Lake Community Christmas Dinner. Hosted by Galilean Lutheran Church\, this dinner includes ham\, baked potatoes\, a variety of salads\, vegetables and pie. It is sponsored by IFCA (Inter-faith Fellowship Community Action)\, and all of the local Christian churches.
X-ALT-DESC;FMTTYPE=text/html:You are invited to the Clear Lake Community Christmas Dinner. Hosted by Galilean Lutheran Church\, this dinner includes ham\, baked potatoes\, a variety of salads\, vegetables and pie. It is sponsored by IFCA (Inter-faith Fellowship Community Action)\, and all of the local Christian churches.
LOCATION:Galilean Lutheran Church\, 4454 255th St.\, Clear Lake\, IA
UID:e.1102.732420
SEQUENCE:3
DTSTAMP:20260421T172218Z
URL:https://members.clearlakeiowa.com/events/details/clear-lake-community-christmas-dinner-732420
END:VEVENT

END:VCALENDAR
