BEGIN:VCALENDAR
VERSION:2.0
PRODID:-//ChamberMaster//Event Calendar 2.0//EN
METHOD:PUBLISH
X-PUBLISHED-TTL:P3D
REFRESH-INTERVAL:P3D
CALSCALE:GREGORIAN
BEGIN:VEVENT
DTSTART:20250321T140000Z
DTEND:20250321T220000Z
X-MICROSOFT-CDO-ALLDAYEVENT:FALSE
SUMMARY:Clear Lake Chamber Open House: Visit Our Temporary Home!
DESCRIPTION:Exciting changes are happening at the Clear Lake Chamber of Commerce! As we settle into our temporary home at 306 Main Ave.\, we invite you to stop by for an Open House on Friday\, March 21\, following the Quarterly Coffee.\n\nCome check out our new space\, connect with fellow community members\, and learn more about our Building a Bright Future project. Our team is still here to serve you just from a different spot for now!\n\n  Location: 306 Main Ave.\, Clear Lake\n\n  Date: Friday\, March 21\n\n  Time: Following the Quarterly Coffee\n\nWe can't wait to welcome you!
X-ALT-DESC;FMTTYPE=text/html:<p data-end="284" data-start="54">Exciting changes are happening at the Clear Lake Chamber of Commerce! As we settle into our <strong data-end="181" data-start="146">temporary home at 306 Main Ave.</strong>\, we invite you to stop by for an <strong data-end="249" data-start="215">Open House on Friday\, March 21</strong>\, following the Quarterly Coffee.</p>\n\n<p data-end="491" data-start="286">Come check out our new space\, connect with fellow community members\, and learn more about our <strong data-end="408" data-start="380">Building a Bright Future</strong> project. Our team is still here to serve you&mdash\;just from a different spot for now!</p>\n\n<p data-end="614" data-start="493">&#128205\; <strong data-end="509" data-start="496">Location:</strong> 306 Main Ave.\, Clear Lake<br data-end="538" data-start="535" />\n&#128197\; <strong data-end="550" data-start="541">Date:</strong> Friday\, March 21<br data-end="570" data-start="567" />\n&#9200\; <strong data-end="581" data-start="572">Time:</strong> Following the Quarterly Coffee</p>\n\n<p data-end="645" data-is-last-node="" data-is-only-node="" data-start="616">We can&rsquo\;t wait to welcome you!</p>\n
LOCATION:306 Main Ave.
UID:e.1102.739477
SEQUENCE:3
DTSTAMP:20260422T184608Z
URL:https://members.clearlakeiowa.com/events/details/clear-lake-chamber-open-house-visit-our-temporary-home-739477
END:VEVENT

END:VCALENDAR
