BEGIN:VCALENDAR
VERSION:2.0
PRODID:-//ChamberMaster//Event Calendar 2.0//EN
METHOD:PUBLISH
X-PUBLISHED-TTL:P3D
REFRESH-INTERVAL:P3D
CALSCALE:GREGORIAN
BEGIN:VEVENT
DTSTART:20210704T180000Z
DTEND:20210704T200000Z
X-MICROSOFT-CDO-ALLDAYEVENT:FALSE
SUMMARY:Clear Lake 4th of July Boat Parade
DESCRIPTION:2nd annual 4th of July boat parade. "Hometown Hospitality & Floating with Friends!" Sponsored by Clear Lake Boats
X-ALT-DESC;FMTTYPE=text/html:2nd annual 4th of July boat parade. &ldquo\;Hometown Hospitality &amp\; Floating with Friends!&rdquo\; Sponsored by Clear Lake Boats
LOCATION:Perimeter of Clear Lake. Starting an Venetian Village
UID:e.1102.733644
SEQUENCE:3
DTSTAMP:20260420T034400Z
URL:https://members.clearlakeiowa.com/events/details/clear-lake-4th-of-july-boat-parade-733644
END:VEVENT

END:VCALENDAR
