BEGIN:VCALENDAR
VERSION:2.0
PRODID:-//ChamberMaster//Event Calendar 2.0//EN
METHOD:PUBLISH
X-PUBLISHED-TTL:P3D
REFRESH-INTERVAL:P3D
CALSCALE:GREGORIAN
BEGIN:VEVENT
DTSTART:20191006T120000Z
DTEND:20191006T170000Z
X-MICROSOFT-CDO-ALLDAYEVENT:FALSE
SUMMARY:CL Fire Department Pancake Breakfast
DESCRIPTION:Volunteer Firefighters serve a pancake breakfast as a fundraiser for the department.  The menu will include fresh griddled pancakes from the firemen's secret recipe\, big and delicious sausage links\, coffee\, milk\, and orange juice.  Breakfast is prepared and served by members of the Clear Lake Fire Department.  Tickets are available from any Clear Lake firefighter or at the door the morning of the breakfast.
X-ALT-DESC;FMTTYPE=text/html:<span class="event-description">Volunteer Firefighters serve a pancake breakfast as a fundraiser for the department.&nbsp\; The menu will include fresh griddled pancakes from the firemen&#39\;s secret recipe\, big and delicious sausage links\, coffee\, milk\, and orange juice.&nbsp\; Breakfast is prepared and served by members of the Clear Lake Fire Department.&nbsp\; Tickets are available from any Clear Lake firefighter or at the door the morning of the breakfast. </span>
LOCATION:Clear Lake Fire Station (Corner of 2nd Avenue and 8th Street)
UID:e.1102.731533
SEQUENCE:3
DTSTAMP:20260421T184432Z
URL:https://members.clearlakeiowa.com/events/details/cl-fire-department-pancake-breakfast-731533
END:VEVENT

END:VCALENDAR
