BEGIN:VCALENDAR
VERSION:2.0
PRODID:-//ChamberMaster//Event Calendar 2.0//EN
METHOD:PUBLISH
X-PUBLISHED-TTL:P3D
REFRESH-INTERVAL:P3D
CALSCALE:GREGORIAN
BEGIN:VEVENT
DTSTART:20260816T160000Z
DTEND:20260816T180000Z
X-MICROSOFT-CDO-ALLDAYEVENT:FALSE
SUMMARY:CL Evening Lions Hamburger Sweet Corn Feed
DESCRIPTION:1/3 lb Hamburger & Bun with all the fixings\, Sweet Corn (All you can eat)\, Cookie\, Water & Lemonade. Proceeds Benefit the Clear Lake Community.
X-ALT-DESC;FMTTYPE=text/html:1/3 lb Hamburger &amp\; Bun with all the fixings\, Sweet Corn (All you can eat)\, Cookie\, Water &amp\; Lemonade. Proceeds Benefit the Clear Lake Community.
LOCATION:Clear Lake CIty Park
UID:e.1102.740210
SEQUENCE:3
DTSTAMP:20260419T163630Z
URL:https://members.clearlakeiowa.com/events/details/cl-evening-lions-hamburger-sweet-corn-feed-08-16-2026-740210
END:VEVENT

END:VCALENDAR
