BEGIN:VCALENDAR
VERSION:2.0
PRODID:-//ChamberMaster//Event Calendar 2.0//EN
METHOD:PUBLISH
X-PUBLISHED-TTL:P3D
REFRESH-INTERVAL:P3D
CALSCALE:GREGORIAN
BEGIN:VEVENT
DTSTART;VALUE=DATE:20190914
DTEND;VALUE=DATE:20190915
TRANSP:TRANSPARENT
X-MICROSOFT-CDO-ALLDAYEVENT:TRUE
SUMMARY:City Wide Garage Sales
DESCRIPTION:Families\, clubs\, and organizations are invited to participate in Clear Lake's City-Wide Garage Sales. \n\n\n\nThis community event is fun for collectors\, families and bargain hunters from around the area.\n\nFind good bargains! Shop the Citywide Garage Sale!\n\n\n\nMap and listings will be in the Clear Lake Mirror Reporter.
X-ALT-DESC;FMTTYPE=text/html:<p class="mainText style41" style="text-align: justify\; color: #000000">Families\, clubs\, and organizations are invited to participate in Clear Lake&#39\;s City-Wide Garage Sales.&nbsp\;<br />\n<br />\nThis&nbsp\;community event is fun for collectors\, families and bargain hunters from around the area.</p>\n\n<p align="justify">Find good bargains! Shop the Citywide Garage Sale!<br />\n<br />\nMap and listings will be in the Clear Lake Mirror Reporter.</p>\n
LOCATION:Clear Lake City-Wide
UID:e.1102.731912
SEQUENCE:3
DTSTAMP:20260421T202107Z
URL:https://members.clearlakeiowa.com/events/details/city-wide-garage-sales-731912
END:VEVENT

END:VCALENDAR
