BEGIN:VCALENDAR
VERSION:2.0
PRODID:-//ChamberMaster//Event Calendar 2.0//EN
METHOD:PUBLISH
X-PUBLISHED-TTL:P3D
REFRESH-INTERVAL:P3D
CALSCALE:GREGORIAN
BEGIN:VEVENT
DTSTART:20260705T150000Z
DTEND:20260705T160000Z
X-MICROSOFT-CDO-ALLDAYEVENT:FALSE
SUMMARY:Church in the Park
DESCRIPTION:Whether you're a lifelong Christian or just exploring faith\, everyone is welcome. Held at the bandshell in Clear Lake's City Park\, services run every Sunday from Memorial Day to Labor Day. Come and experience a message of truth\, life\, and community in a beautiful outdoor setting.
X-ALT-DESC;FMTTYPE=text/html:<span style="font-size:12px\;"><span style="font-family:arial\;"><span style="color: rgb(13\, 13\, 13)\; white-space-collapse: preserve\;">Whether you&#39\;re a lifelong Christian or just exploring faith\, everyone is welcome. Held at the bandshell in Clear Lake&#39\;s City Park\, services run every Sunday from Memorial Day to Labor Day. Come and experience a message of truth\, life\, and community in a beautiful outdoor setting.</span></span></span>
LOCATION:City Park
UID:e.1102.740536
SEQUENCE:3
DTSTAMP:20260419T163217Z
URL:https://members.clearlakeiowa.com/events/details/church-in-the-park-07-05-2026-740536
END:VEVENT

END:VCALENDAR
