BEGIN:VCALENDAR
VERSION:2.0
PRODID:-//ChamberMaster//Event Calendar 2.0//EN
METHOD:PUBLISH
X-PUBLISHED-TTL:P3D
REFRESH-INTERVAL:P3D
CALSCALE:GREGORIAN
BEGIN:VEVENT
DTSTART;VALUE=DATE:20191207
DTEND;VALUE=DATE:20191208
TRANSP:TRANSPARENT
X-MICROSOFT-CDO-ALLDAYEVENT:TRUE
SUMMARY:Christmas with the Holy Rocka Rollaz
DESCRIPTION:Christmas with the Holy Rocka Rollaz
X-ALT-DESC;FMTTYPE=text/html:Christmas with the Holy Rocka Rollaz
LOCATION:Surf Ballroom
UID:e.1102.731919
SEQUENCE:3
DTSTAMP:20260421T161037Z
URL:https://members.clearlakeiowa.com/events/details/christmas-with-the-holy-rocka-rollaz-731919
END:VEVENT

END:VCALENDAR
