BEGIN:VCALENDAR
VERSION:2.0
PRODID:-//ChamberMaster//Event Calendar 2.0//EN
METHOD:PUBLISH
X-PUBLISHED-TTL:P3D
REFRESH-INTERVAL:P3D
CALSCALE:GREGORIAN
BEGIN:VEVENT
DTSTART:20191215T190000Z
DTEND:20191215T203000Z
X-MICROSOFT-CDO-ALLDAYEVENT:FALSE
SUMMARY:Christmas Tea in Clear Lake
DESCRIPTION:Fashion Show & Tea 2 Because of high demand we're doing it again Sunday\, December 15 at 1:00 PM Larch Pine Inn Bed & Breakfast Cost: $22/person Includes: traditional afternoon luncheon\, Special Christmas Tea from Holistic Harmony\, Fashion Show with Emerson's By The Lake\, The Funky Zebras Clear Lake and Weathered Elements and door prizes. Larch Pine Inn Bed & Breakfast 401 North 3rd St\, Clear Lake\, IA Call for reservations (641) 357-0345 or email info@larchpineinn.com Our Christmas Tea at the Larch Pine Inn will include a traditional afternoon luncheon with a blend of sweet and savory sandwiches\, salads and desserts\, a special Christmas Tea from Holistic Harmony\, a fashion show with holiday fashions from Emerson's by the Lake\, The Funky Zebras and Weathered Elements\, and door prizes. "I like to say it's an afternoon when 'lake casual' collides with the Christmas Tea. The best part about Clear Lake is the 'Lake Casual' lifestyle\; add the formality of an Afternoon Tea in our historic 1875 Victorian Home and you've got an interesting mix\," commented event coordinator Paula Hanus. Please join us. Make your reservation today\, as seating is limited. For reservations call (641) 357-0345 or email info@larchpineinn.com
X-ALT-DESC;FMTTYPE=text/html:Fashion Show &amp\; Tea 2 Because of high demand we&#39\;re doing it again Sunday\, December 15 at 1:00 PM Larch Pine Inn Bed &amp\; Breakfast Cost: $22/person Includes: traditional afternoon luncheon\, Special Christmas Tea from Holistic Harmony\, Fashion Show with Emerson&#39\;s By The Lake\, The Funky Zebras Clear Lake and Weathered Elements and door prizes. Larch Pine Inn Bed &amp\; Breakfast 401 North 3rd St\, Clear Lake\, IA Call for reservations (641) 357-0345 or email info@larchpineinn.com Our Christmas Tea at the Larch Pine Inn will include a traditional afternoon luncheon with a blend of sweet and savory sandwiches\, salads and desserts\, a special Christmas Tea from Holistic Harmony\, a fashion show with holiday fashions from Emerson&rsquo\;s by the Lake\, The Funky Zebras and Weathered Elements\, and door prizes. &ldquo\;I like to say it&rsquo\;s an afternoon when &lsquo\;lake casual&rsquo\; collides with the Christmas Tea. The best part about Clear Lake is the &#39\;Lake Casual&#39\; lifestyle\; add the formality of an Afternoon Tea in our historic 1875 Victorian Home and you&rsquo\;ve got an interesting mix\,&rdquo\; commented event coordinator Paula Hanus. Please join us. Make your reservation today\, as seating is limited. For reservations call (641) 357-0345 or email info@larchpineinn.com
LOCATION:Larch Pine Inn\, 401 North 3rd Street\, Clear Lake\, Iowa 50428
UID:e.1102.732509
SEQUENCE:3
DTSTAMP:20260421T172149Z
URL:https://members.clearlakeiowa.com/events/details/christmas-tea-in-clear-lake-732509
END:VEVENT

END:VCALENDAR
