BEGIN:VCALENDAR
VERSION:2.0
PRODID:-//ChamberMaster//Event Calendar 2.0//EN
METHOD:PUBLISH
X-PUBLISHED-TTL:P3D
REFRESH-INTERVAL:P3D
CALSCALE:GREGORIAN
BEGIN:VEVENT
DTSTART:20191208T190000Z
DTEND:20191208T203000Z
X-MICROSOFT-CDO-ALLDAYEVENT:FALSE
SUMMARY:Christmas Tea & Fashion Show
DESCRIPTION:Our Christmas Tea at the Larch Pine Inn will include a traditional afternoon luncheon with a blend of sweet and savory sandwiches\, salads and desserts\, a special Christmas Tea from Holistic Harmony\, a fashion show with holiday fashions from Emerson's by the Lake\, Lake Lifestyle\, The Funky Zebras and Weathered Elements\, and door prizes. "I like to say it's an afternoon when 'lake casual' collides with the Christmas Tea. The best part about Clear Lake is the 'Lake Casual' lifestyle\; add the formality of an Afternoon Tea in our historic 1875 Victorian Home and you've got an interesting mix\," said event organizer\, Paula Hanus. Please join us. Make your reservation today\, as seating is limited. For reservations call (641) 357-0345 or email info@larchpineinn.com
X-ALT-DESC;FMTTYPE=text/html:Our Christmas Tea at the Larch Pine Inn will include a traditional afternoon luncheon with a blend of sweet and savory sandwiches\, salads and desserts\, a special Christmas Tea from Holistic Harmony\, a fashion show with holiday fashions from Emerson&rsquo\;s by the Lake\, Lake Lifestyle\, The Funky Zebras and Weathered Elements\, and door prizes. &ldquo\;I like to say it&rsquo\;s an afternoon when &lsquo\;lake casual&rsquo\; collides with the Christmas Tea. The best part about Clear Lake is the &#39\;Lake Casual&#39\; lifestyle\; add the formality of an Afternoon Tea in our historic 1875 Victorian Home and you&rsquo\;ve got an interesting mix\,&rdquo\; said event organizer\, Paula Hanus. Please join us. Make your reservation today\, as seating is limited. For reservations call (641) 357-0345 or email&nbsp\;info@larchpineinn.com&nbsp\;
LOCATION:Larch Pine Inn Bed & Breakfast\, 401 North 3rd St\, Clear Lake\, IA
UID:e.1102.732457
SEQUENCE:3
DTSTAMP:20260421T161200Z
URL:https://members.clearlakeiowa.com/events/details/christmas-tea-fashion-show-732457
END:VEVENT

END:VCALENDAR
