BEGIN:VCALENDAR
VERSION:2.0
PRODID:-//ChamberMaster//Event Calendar 2.0//EN
METHOD:PUBLISH
X-PUBLISHED-TTL:P3D
REFRESH-INTERVAL:P3D
CALSCALE:GREGORIAN
BEGIN:VEVENT
DTSTART:20191207T163000Z
DTEND:20191207T180000Z
X-MICROSOFT-CDO-ALLDAYEVENT:FALSE
SUMMARY:Christmas by the Lake Story Time
DESCRIPTION:In celebration of Christmas by the Lake\, the Clear Lake Public Library's Children's Department is hosting two sessions of the same story time at the library on Saturday\, Dec. 7\, designed for children ages 3 to 6. The story time will be offered at 10:30 a.m. and again at 11:30 a.m. Parents will want to stay and help their child with a simple craft after listening to a few Christmas stories.
X-ALT-DESC;FMTTYPE=text/html:In celebration of Christmas by the Lake\, the Clear Lake Public Library&rsquo\;s Children&rsquo\;s Department is hosting two sessions of the same story time at the library on Saturday\, Dec. 7\, designed for children ages 3 to 6. The story time will be offered at 10:30 a.m. and again at 11:30 a.m. Parents will want to stay and help their child with a simple craft after listening to a few Christmas stories.
LOCATION:Clear Lake Public Library
UID:e.1102.732285
SEQUENCE:3
DTSTAMP:20260421T161343Z
URL:https://members.clearlakeiowa.com/events/details/christmas-by-the-lake-story-time-12-07-2019-732285
END:VEVENT

END:VCALENDAR
