BEGIN:VCALENDAR
VERSION:2.0
PRODID:-//ChamberMaster//Event Calendar 2.0//EN
METHOD:PUBLISH
X-PUBLISHED-TTL:P3D
REFRESH-INTERVAL:P3D
CALSCALE:GREGORIAN
BEGIN:VEVENT
DTSTART;VALUE=DATE:20191207
DTEND;VALUE=DATE:20191208
TRANSP:TRANSPARENT
X-MICROSOFT-CDO-ALLDAYEVENT:TRUE
SUMMARY:Christmas by the Lake
DESCRIPTION:Saturday's events include horse drawn carriage and Main Street Trolley rides\, Holiday Bazaar + Face Painter at the Senior Citizens Center with a Maid Rite Luncheon with proceeds going to Toys for Tots\, crowning of prince & princess (Click Here for Prince & Princess Application)\, pony rides\, petting zoo\, s'mores for kids\, Christmas Karaoke\, Santa's Workshop Festival at The Hub\, visit with Santa\, matinee at the Lake Theatre\, strolling Dickens characters\, lighted parade\,(Click Here for Parade Entry Form) fireworks over the frozen lake.\n\n\n\nCLICK HERE FOR COMPLETE SCHEDULE OF EVENTS!\n\n\n\nSunday events include Polar Bear Dip (12:30pm at City Beach)\, (Click Here for Registration Form) Kids Treasure Hunt (1pm at the Lakeview Room for ages 12 and under)\, and a Free Family Matinee 11AM at the Lake Theatre (admission is a food donation to the food bank)\,\n\n\n\nThe weekend of holiday fun also includes:\n\nHoliday Concert at the Surf Ballroom (Christmas with the Holy Rocka Rollaz)\n\nFestival of Trees (Friday evening - Sunday)\n\nPolar Bear Club dip for charity (Sunday) \n\nKid's Treasure Hunt (Sunday)\n\n\n\nClear Lake's Christmas by the Lake has won several tourism awards for best holiday festival.
X-ALT-DESC;FMTTYPE=text/html:<span class="event-description">Saturday&#39\;s events include horse drawn carriage and Main Street Trolley rides\, Holiday Bazaar + Face Painter at the Senior Citizens Center with a Maid Rite Luncheon with proceeds going to Toys for Tots\, crowning of prince &amp\; princess <a href="https://chambermaster.blob.core.windows.net/userfiles/UserFiles/chambers/1102/File/PrincePrincessContestApp2019.pdf">(Click Here for Prince &amp\; Princess Application)</a>\, pony rides\, petting zoo\, s&#39\;mores for kids\, Christmas Karaoke\, Santa&#39\;s Workshop Festival at The Hub\, visit with Santa\, matinee at the Lake Theatre\, strolling Dickens characters\, lighted parade<a href="https://chambermaster.blob.core.windows.net/userfiles/UserFiles/chambers/1102/File/ParadeEntryForm12.pdf">\,(Click Here for Parade Entry Form)</a> fireworks over the frozen lake.<br />\n<br />\n<a href="https://chambermaster.blob.core.windows.net/userfiles/UserFiles/chambers/1102/File/2019Brochure4.pdf"><strong>CLICK HERE FOR COMPLETE SCHEDULE OF EVENTS!</strong></a><br />\n<br />\nSunday events include Polar Bear Dip (12:30pm at City Beach)\, <a href="https://chambermaster.blob.core.windows.net/userfiles/UserFiles/chambers/1102/File/PolarBearDipApplicationWaiver2019.pdf">(Click Here for Registration Form)</a> Kids Treasure Hunt (1pm at the Lakeview Room for ages 12 and under)\, and a Free Family Matinee 11AM at the Lake Theatre (admission is a food donation to the food bank)\,<br />\n<br />\nThe weekend of&nbsp\;holiday fun also includes:<br />\nHoliday Concert at the Surf Ballroom (Christmas with the Holy Rocka Rollaz)<br />\nFestival of Trees (Friday evening - Sunday)<br />\nPolar Bear Club dip for charity (Sunday)&nbsp\;<br />\nKid&#39\;s Treasure Hunt (Sunday)<br />\n<br />\nClear Lake&#39\;s Christmas by the Lake has won several tourism awards for best holiday festival.</span>
LOCATION:Downtown Clear Lake
UID:e.1102.723809
SEQUENCE:3
DTSTAMP:20260421T142333Z
URL:https://members.clearlakeiowa.com/events/details/christmas-by-the-lake-12-07-2019-723809
END:VEVENT

END:VCALENDAR
