BEGIN:VCALENDAR
VERSION:2.0
PRODID:-//ChamberMaster//Event Calendar 2.0//EN
METHOD:PUBLISH
X-PUBLISHED-TTL:P3D
REFRESH-INTERVAL:P3D
CALSCALE:GREGORIAN
BEGIN:VEVENT
DTSTART:20191209T170000Z
DTEND:20191209T171000Z
X-MICROSOFT-CDO-ALLDAYEVENT:FALSE
SUMMARY:Chamber Chats
DESCRIPTION:Join us for a Facebook live Chamber Chat with one of our Chamber Members. Learn more about businesses and events in the area.
X-ALT-DESC;FMTTYPE=text/html:Join us for a Facebook live Chamber Chat with one of our Chamber Members. Learn more about businesses and events in the area.
LOCATION:Facebook Live
UID:e.1102.731761
SEQUENCE:3
DTSTAMP:20260421T172149Z
URL:https://members.clearlakeiowa.com/events/details/chamber-chats-12-09-2019-731761
END:VEVENT

END:VCALENDAR
