BEGIN:VCALENDAR
VERSION:2.0
PRODID:-//ChamberMaster//Event Calendar 2.0//EN
METHOD:PUBLISH
X-PUBLISHED-TTL:P3D
REFRESH-INTERVAL:P3D
CALSCALE:GREGORIAN
BEGIN:VEVENT
DTSTART:20191014T160000Z
DTEND:20191014T161000Z
X-MICROSOFT-CDO-ALLDAYEVENT:FALSE
SUMMARY:Chamber Chats
DESCRIPTION:Join us for a Facebook live Chamber Chat with one of our Chamber Members. Learn more about businesses and events in the area.
X-ALT-DESC;FMTTYPE=text/html:Join us for a Facebook live Chamber Chat with one of our Chamber Members. Learn more about businesses and events in the area.
LOCATION:Facebook Live
UID:e.1102.731759
SEQUENCE:3
DTSTAMP:20260421T184518Z
URL:https://members.clearlakeiowa.com/events/details/chamber-chats-10-14-2019-731759
END:VEVENT

END:VCALENDAR
