BEGIN:VCALENDAR
VERSION:2.0
PRODID:-//ChamberMaster//Event Calendar 2.0//EN
METHOD:PUBLISH
X-PUBLISHED-TTL:P3D
REFRESH-INTERVAL:P3D
CALSCALE:GREGORIAN
BEGIN:VEVENT
DTSTART:20190909T160000Z
DTEND:20190909T161000Z
X-MICROSOFT-CDO-ALLDAYEVENT:FALSE
SUMMARY:Chamber Chats
DESCRIPTION:Join us for a Facebook live Chamber Chat with one of our Chamber Members. Learn more about businesses and events in the area. This week's guest is Jennifer Pinske\, sharing about One Vision's Benefit Walk being held on September 21.
X-ALT-DESC;FMTTYPE=text/html:Join us for a Facebook live Chamber Chat with one of our Chamber Members. Learn more about businesses and events in the area. This week&#39\;s guest is Jennifer Pinske\, sharing about One Vision&#39\;s Benefit Walk being held on September 21.
LOCATION:Facebook Live
UID:e.1102.731758
SEQUENCE:3
DTSTAMP:20260421T202117Z
URL:https://members.clearlakeiowa.com/events/details/chamber-chats-09-09-2019-731758
END:VEVENT

END:VCALENDAR
