BEGIN:VCALENDAR
VERSION:2.0
PRODID:-//ChamberMaster//Event Calendar 2.0//EN
METHOD:PUBLISH
X-PUBLISHED-TTL:P3D
REFRESH-INTERVAL:P3D
CALSCALE:GREGORIAN
BEGIN:VEVENT
DTSTART:20260317T213000Z
DTEND:20260317T230000Z
X-MICROSOFT-CDO-ALLDAYEVENT:FALSE
SUMMARY:Chamber Business After Hours Hosted by Rumorz Bar & Grill
DESCRIPTION:Business After Hours hosted by Rumorz Bar & Grill and the Clear Lake Area Chamber of Commerce First Mates!\n\n  Date: Tuesday\, March 17\n\n  Time: 4:30 6:00 p.m.\n\n  Location: Rumorz Bar & Grill   1210 South Shore Dr.\n\n\n\nJoin us for St. Patty's Day fun and celebrate owner Luke's birthday!   Be sure to wear green and bring some green to play their new Iowa Lottery machines!\n\n\n\nNo RSVP required   just stop by\, connect with fellow Chamber members\, and enjoy a fun evening hosted by Rumorz Bar & Grill!
X-ALT-DESC;FMTTYPE=text/html:<div class="xdj266r x14z9mp xat24cr x1lziwak x1vvkbs" style="margin: 0px\; overflow-wrap: break-word\; font-family: &quot\;Segoe UI Historic&quot\;\, &quot\;Segoe UI&quot\;\, Helvetica\, Arial\, sans-serif\; color: rgb(8\, 8\, 9)\; font-size: 15px\;"><strong><span style="font-size:14px\;"><span style="font-family:arial\;">Business After Hours hosted by Rumorz Bar &amp\; Grill and the Clear Lake Area Chamber of Commerce First Mates!</span></span></strong></div>\n\n<div class="xdj266r x14z9mp xat24cr x1lziwak x1vvkbs" style="margin: 0px\; overflow-wrap: break-word\; font-family: &quot\;Segoe UI Historic&quot\;\, &quot\;Segoe UI&quot\;\, Helvetica\, Arial\, sans-serif\; color: rgb(8\, 8\, 9)\; font-size: 15px\;">&#128197\; Date: Tuesday\, March 17<br />\n&#9200\; Time: 4:30&ndash\;6:00 p.m.<br />\n&#128205\; Location: Rumorz Bar &amp\; Grill &mdash\; 1210 South Shore Dr.<br />\n<br />\nJoin us for St. Patty&#39\;s Day fun&nbsp\;and celebrate owner Luke&#39\;s birthday! &#127881\; Be sure to wear green and bring some green to play their new Iowa Lottery machines!<br />\n<br />\nNo RSVP required &mdash\; just stop by\, connect with fellow Chamber members\, and enjoy a fun&nbsp\;evening hosted by Rumorz Bar &amp\; Grill!</div>\n
LOCATION:Rumorz Bar & Grill 1210 South Shore Dr.
UID:e.1102.741063
SEQUENCE:3
DTSTAMP:20260419T130007Z
URL:https://members.clearlakeiowa.com/events/details/chamber-business-after-hours-hosted-by-rumorz-bar-grill-741063
END:VEVENT

END:VCALENDAR
