BEGIN:VCALENDAR
VERSION:2.0
PRODID:-//ChamberMaster//Event Calendar 2.0//EN
METHOD:PUBLISH
X-PUBLISHED-TTL:P3D
REFRESH-INTERVAL:P3D
CALSCALE:GREGORIAN
BEGIN:VEVENT
DTSTART:20250513T190000Z
DTEND:20250513T210000Z
X-MICROSOFT-CDO-ALLDAYEVENT:FALSE
SUMMARY:CG Public Health's Advanced Directive Seminar - Part 2
DESCRIPTION:Cerro Gordo County Public Health will sponsor a 2-part seminar on Advanced Directives at the Clear Lake Public Library. In the first session\, an attorney will guide you through step-by-step information on topics such as Medical Power of Attorney\, Living Will\, DNR\, Power of Attorney\, and he will talk about the importance of planning ahead. There will also be an experienced care consultant to talk about having this difficult discussion with your family. CG Public Health will provide all the forms you'll need. The first session will be held on Tuesday\, April 22 from 2-4 pm. A second seminar will be held on Tuesday\, May 13 from 2-4 pm to answer any further questions. A notary will be available to ensure your wishes are recognized and legally binding.
X-ALT-DESC;FMTTYPE=text/html:Cerro Gordo County Public Health will sponsor a 2-part seminar on Advanced Directives at the Clear Lake Public Library. In the first session\, an attorney will guide you through step-by-step information on topics such as Medical Power of Attorney\, Living Will\, DNR\, Power of Attorney\, and he will talk about the importance of planning ahead. There will also be an experienced care consultant to talk about having this difficult discussion with your family. CG Public Health will provide all the forms you&rsquo\;ll need. The first session will be held on Tuesday\, April 22 from 2-4 pm. A second seminar will be held on Tuesday\, May 13 from 2-4 pm to answer any further questions. A notary will be available to ensure your wishes are recognized and legally binding.
LOCATION:Clear Lake Public Library 200 N 4th St
UID:e.1102.739543
SEQUENCE:3
DTSTAMP:20260424T082249Z
URL:https://members.clearlakeiowa.com/events/details/cg-public-health-s-advanced-directive-seminar-part-2-739543
END:VEVENT

END:VCALENDAR
