BEGIN:VCALENDAR
VERSION:2.0
PRODID:-//ChamberMaster//Event Calendar 2.0//EN
METHOD:PUBLISH
X-PUBLISHED-TTL:P3D
REFRESH-INTERVAL:P3D
CALSCALE:GREGORIAN
BEGIN:VEVENT
DTSTART:20191201T220000Z
DTEND:20191202T000000Z
X-MICROSOFT-CDO-ALLDAYEVENT:FALSE
SUMMARY:Cerro Gordo County 4-H's Open House
DESCRIPTION:All youth in grades Kindergarten-12 are invited to attend our 4-H Open House! 4-H members can bring your friends to this FREE EVENT! Come make some crafts\, learn about 4-H and all youth registered will get a FREE T-SHIRT! Registration for 4-H is $11 for the year.
X-ALT-DESC;FMTTYPE=text/html:All youth in grades Kindergarten-12 are invited to attend our 4-H Open House! 4-H members can bring your friends to this FREE EVENT! Come make some crafts\, learn about 4-H and all youth registered will get a FREE T-SHIRT! Registration for 4-H is $11 for the year.
LOCATION:North Iowa Events Center 3700 4th St SW\, Mason City\, IA 50401 in the 4-H Learning Center
UID:e.1102.732468
SEQUENCE:3
DTSTAMP:20260421T161155Z
URL:https://members.clearlakeiowa.com/events/details/cerro-gordo-county-4-h-s-open-house-732468
END:VEVENT

END:VCALENDAR
