BEGIN:VCALENDAR
VERSION:2.0
PRODID:-//ChamberMaster//Event Calendar 2.0//EN
METHOD:PUBLISH
X-PUBLISHED-TTL:P3D
REFRESH-INTERVAL:P3D
CALSCALE:GREGORIAN
BEGIN:VEVENT
DTSTART:20260714T140000Z
DTEND:20260717T180000Z
X-MICROSOFT-CDO-ALLDAYEVENT:FALSE
SUMMARY:Capturing the Landscape in Pastel Class at the Clear Lake Arts Center
DESCRIPTION:Capturing the Landscape in Pastel with instructor Pamela Douglas Discover the beauty and versatility of pastel while exploring the landscape. In this four-day workshop\, beginner and intermediate painters will explore nearby locations\, gather reference photos\, and create value sketches to plan their paintings. learn how to begin\, develop a focal point\, create depth using color and value\, build texture through layering pastel. Skill Level: Beginner to Intermediate Ages: 16+ In Partnership with Central Gardens of North Iowa
X-ALT-DESC;FMTTYPE=text/html:Capturing the Landscape in Pastel with instructor Pamela Douglas Discover the beauty and versatility of pastel while exploring the landscape. In this four-day workshop\, beginner and intermediate painters will explore nearby locations\, gather reference photos\, and create value sketches to plan their paintings. learn how to begin\, develop a focal point\, create depth using color and value\, build texture through layering pastel. Skill Level: Beginner to Intermediate Ages: 16+ In Partnership with Central Gardens of North Iowa
LOCATION:Clear Lake Arts Center 17 S 4th St\, Clear Lake\, IA 50428
UID:e.1102.741412
SEQUENCE:3
DTSTAMP:20260419T150243Z
URL:https://members.clearlakeiowa.com/events/details/capturing-the-landscape-in-pastel-class-at-the-clear-lake-arts-center-741412
END:VEVENT

END:VCALENDAR
