BEGIN:VCALENDAR
VERSION:2.0
PRODID:-//ChamberMaster//Event Calendar 2.0//EN
METHOD:PUBLISH
X-PUBLISHED-TTL:P3D
REFRESH-INTERVAL:P3D
CALSCALE:GREGORIAN
BEGIN:VEVENT
DTSTART:20191212T223000Z
DTEND:20191213T003000Z
X-MICROSOFT-CDO-ALLDAYEVENT:FALSE
SUMMARY:Business After Hours
DESCRIPTION:Join Hall Realty and the Clear Lake Arts Center for a special holiday Business After Hours! Enjoy delicious food and drinks and visit with your fellow chamber members.\n\n\n\nThis networking event is organized by the Clear Lake Area Chamber of Commerce First Mates Committee.
X-ALT-DESC;FMTTYPE=text/html:Join Hall Realty and the Clear Lake Arts Center for a special holiday Business After Hours! Enjoy delicious food and drinks and visit with your fellow chamber members.<br />\n<br />\nThis networking event is organized by the Clear Lake Area Chamber of Commerce First Mates Committee.
LOCATION:Clear Lake Arts Center 17 South 4th Street
UID:e.1102.732459
SEQUENCE:3
DTSTAMP:20260421T172007Z
URL:https://members.clearlakeiowa.com/events/details/business-after-hours-732459
END:VEVENT

END:VCALENDAR
