BEGIN:VCALENDAR
VERSION:2.0
PRODID:-//ChamberMaster//Event Calendar 2.0//EN
METHOD:PUBLISH
X-PUBLISHED-TTL:P3D
REFRESH-INTERVAL:P3D
CALSCALE:GREGORIAN
BEGIN:VEVENT
DTSTART:20190909T170000Z
DTEND:20190909T170000Z
X-MICROSOFT-CDO-ALLDAYEVENT:FALSE
SUMMARY:Buena Vista University Term 2 Starts on Monday\, October 21\, 2019!
DESCRIPTION:Bachelor's Degree classes BEGIN OCTOBER 21st! 8-week courses available fully online or in a combination of face-to-face and online formats. Stop by our BVU office on the NIACC campus and visit with an advisor today.
X-ALT-DESC;FMTTYPE=text/html:Bachelor&rsquo\;s Degree classes BEGIN OCTOBER 21st! 8-week courses available fully online or in a combination of face-to-face and online formats. Stop by our BVU office on the NIACC campus and visit with an advisor today.
LOCATION:Buena Vista University Mason City 500 College Drive Mason City\, Iowa 50401
UID:e.1102.732282
SEQUENCE:3
DTSTAMP:20260421T202703Z
URL:https://members.clearlakeiowa.com/events/details/buena-vista-university-term-2-starts-on-monday-october-21-2019-732282
END:VEVENT

END:VCALENDAR
