BEGIN:VCALENDAR
VERSION:2.0
PRODID:-//ChamberMaster//Event Calendar 2.0//EN
METHOD:PUBLISH
X-PUBLISHED-TTL:P3D
REFRESH-INTERVAL:P3D
CALSCALE:GREGORIAN
BEGIN:VEVENT
DTSTART:20260711T170000Z
DTEND:20260711T210000Z
X-MICROSOFT-CDO-ALLDAYEVENT:FALSE
SUMMARY:Brews on the Beach
DESCRIPTION:Brews on the Beach craft brew fest will be held in the City Park along the shores of Clear Lake. The event will feature over 20 Iowa craft breweries with their finest brews\, hosted by Lake Time Brewery and Clear Lake Rotary.\n\n \n\nVIP ticket holders gain access to the event at noon and general admission ticket holders get in at 1:00 to taste beer until 4:00 pm.
X-ALT-DESC;FMTTYPE=text/html:<p class="font_7" style="margin: 0px\; padding: 0px\; border: 0px\; outline: 0px\; vertical-align: baseline\; background-image: initial\; background-position: initial\; background-size: initial\; background-repeat: initial\; background-attachment: initial\; background-origin: initial\; background-clip: initial\; pointer-events: auto\; font-size: 18px\; line-height: normal\; color: rgb(var(--color_15))\;"><span style="font-family:arial\;"><span style="font-size:12px\;">Brews on the Beach craft brew fest will be held in the City Park along the shores of Clear Lake. The event will feature over 20 Iowa craft breweries with their finest brews\, hosted by Lake Time Brewery and Clear Lake Rotary.</span></span></p>\n\n<p class="font_7" style="margin: 0px\; padding: 0px\; border: 0px\; outline: 0px\; vertical-align: baseline\; background-image: initial\; background-position: initial\; background-size: initial\; background-repeat: initial\; background-attachment: initial\; background-origin: initial\; background-clip: initial\; pointer-events: auto\; font-size: 18px\; line-height: normal\; color: rgb(var(--color_15))\;">&nbsp\;</p>\n\n<p class="font_7" style="margin: 0px\; padding: 0px\; border: 0px\; outline: 0px\; vertical-align: baseline\; background-image: initial\; background-position: initial\; background-size: initial\; background-repeat: initial\; background-attachment: initial\; background-origin: initial\; background-clip: initial\; pointer-events: auto\; font-size: 18px\; line-height: normal\; color: rgb(var(--color_15))\;"><span style="font-family:arial\;"><span style="font-size:12px\;">VIP ticket holders gain access to the event at noon and general admission ticket holders get in at 1:00 to taste beer until 4:00 pm.</span></span></p>\n
LOCATION:City Park
UID:e.1102.740547
SEQUENCE:3
DTSTAMP:20260419T151040Z
URL:https://members.clearlakeiowa.com/events/details/brews-on-the-beach-740547
END:VEVENT

END:VCALENDAR
