BEGIN:VCALENDAR
VERSION:2.0
PRODID:-//ChamberMaster//Event Calendar 2.0//EN
METHOD:PUBLISH
X-PUBLISHED-TTL:P3D
REFRESH-INTERVAL:P3D
CALSCALE:GREGORIAN
BEGIN:VEVENT
DTSTART:20250110T000000Z
DTEND:20250110T010000Z
X-MICROSOFT-CDO-ALLDAYEVENT:FALSE
SUMMARY:Brave New World Book Club: The Measure
DESCRIPTION:Dystopia is an imagined state or society in which there is great suffering or injustice. Usually these imagined states end up ominously reflective of our own society. The Measure by Nikki Erlick: Eight ordinary people. One extraordinary choice. It seems like any other day. You wake up\, drink a cup of coffee\, and head out. But today\, when you open your front door\, waiting for you is a small wooden box. The contents of this mysterious box tells you the exact number of years you will live. From suburban doorsteps to desert tents\, every person on every continent receives the same box. In an instant\, the world is thrust into a collective frenzy. Where did these boxes come from? What do they mean? Is there truth to what they promise? As society comes together and pulls apart\, everyone faces the same shocking choice: Do they wish to know how long they'll live? And\, if so\, what will they do with that knowledge?
X-ALT-DESC;FMTTYPE=text/html:Dystopia is an imagined state or society in which there is great suffering or injustice. Usually these imagined states end up ominously reflective of our own society. The Measure by Nikki Erlick: Eight ordinary people. One extraordinary choice. It seems like any other day. You wake up\, drink a cup of coffee\, and head out. But today\, when you open your front door\, waiting for you is a small wooden box. The contents of this mysterious box tells you the exact number of years you will live. From suburban doorsteps to desert tents\, every person on every continent receives the same box. In an instant\, the world is thrust into a collective frenzy. Where did these boxes come from? What do they mean? Is there truth to what they promise? As society comes together and pulls apart\, everyone faces the same shocking choice: Do they wish to know how long they&rsquo\;ll live? And\, if so\, what will they do with that knowledge?
LOCATION:Clear Lake Public Library 200 N 4th St
UID:e.1102.739133
SEQUENCE:3
DTSTAMP:20260422T162250Z
URL:https://members.clearlakeiowa.com/events/details/brave-new-world-book-club-the-measure-739133
END:VEVENT

END:VCALENDAR
