BEGIN:VCALENDAR
VERSION:2.0
PRODID:-//ChamberMaster//Event Calendar 2.0//EN
METHOD:PUBLISH
X-PUBLISHED-TTL:P3D
REFRESH-INTERVAL:P3D
CALSCALE:GREGORIAN
BEGIN:VEVENT
DTSTART:20210603T220000Z
DTEND:20210604T000000Z
X-MICROSOFT-CDO-ALLDAYEVENT:FALSE
SUMMARY:Brad Revland@ Sharkys
DESCRIPTION:Its the first Thursday on Main and Sharkys is having Music every Thursday with $2 Margaritas and other food and drink Specials Brad will be Jamming his hits on the Acoustic Guitar ... Plus Check out the New JAWS CHAIR !!
X-ALT-DESC;FMTTYPE=text/html:Its the first Thursday on Main and Sharkys is having Music every Thursday with $2 Margaritas and other food and drink Specials Brad will be Jamming his hits on the Acoustic Guitar ... Plus Check out the New JAWS CHAIR !!
LOCATION:12 South Shore Dr.
UID:e.1102.733741
SEQUENCE:3
DTSTAMP:20260422T180530Z
URL:https://members.clearlakeiowa.com/events/details/brad-revland-sharkys-06-03-2021-733741
END:VEVENT

END:VCALENDAR
