BEGIN:VCALENDAR
VERSION:2.0
PRODID:-//ChamberMaster//Event Calendar 2.0//EN
METHOD:PUBLISH
X-PUBLISHED-TTL:P3D
REFRESH-INTERVAL:P3D
CALSCALE:GREGORIAN
BEGIN:VEVENT
DTSTART:20260318T230000Z
DTEND:20260319T000000Z
X-MICROSOFT-CDO-ALLDAYEVENT:FALSE
SUMMARY:Books on Tap: The Thursday Murder Club
DESCRIPTION:Books on Tap meets on the third Wednesday of every month at 6:00 pm at Lake Time Brewery. The Thursday Murder Club by Richard Osman: In a peaceful retirement village\, four unlikely friends meet weekly in the Jigsaw Room to discuss unsolved crimes\; together they call themselves the Thursday Murder Club. When a local developer is found dead with a mysterious photograph left next to the body\, the Thursday Murder Club suddenly find themselves in the middle of their first live case. As the bodies begin to pile up\, can our unorthodox but brilliant gang catch the killer\, before it's too late?
X-ALT-DESC;FMTTYPE=text/html:Books on Tap meets on the third Wednesday of every month at 6:00 pm at Lake Time Brewery. The Thursday Murder Club by Richard Osman: In a peaceful retirement village\, four unlikely friends meet weekly in the Jigsaw Room to discuss unsolved crimes\; together they call themselves the Thursday Murder Club. When a local developer is found dead with a mysterious photograph left next to the body\, the Thursday Murder Club suddenly find themselves in the middle of their first live case. As the bodies begin to pile up\, can our unorthodox but brilliant gang catch the killer\, before it&#39\;s too late?
LOCATION:Lake Time Brewery 801 Main Ave
UID:e.1102.741048
SEQUENCE:3
DTSTAMP:20260419T125920Z
URL:https://members.clearlakeiowa.com/events/details/books-on-tap-the-thursday-murder-club-741048
END:VEVENT

END:VCALENDAR
