BEGIN:VCALENDAR
VERSION:2.0
PRODID:-//ChamberMaster//Event Calendar 2.0//EN
METHOD:PUBLISH
X-PUBLISHED-TTL:P3D
REFRESH-INTERVAL:P3D
CALSCALE:GREGORIAN
BEGIN:VEVENT
DTSTART:20260520T230000Z
DTEND:20260521T000000Z
X-MICROSOFT-CDO-ALLDAYEVENT:FALSE
SUMMARY:Books on Tap: Doubt
DESCRIPTION:Books on Tap meets on the third Wednesday of every month at 6:00 pm at Lake Time Brewery. Doubt: A Parable: Doubt is set in a Bronx Catholic school in 1964\, where a strong-minded woman wrestles with conscience and uncertainty as she is faced with concerns about one of her male colleagues. This new play by John Patrick Shanley the Bronx-born-and-bred playwright and Academy Award-winning author of Moonstruck dramatizes issues straight from today's headlines within a world re-created with knowing detail and a judicious eye.
X-ALT-DESC;FMTTYPE=text/html:Books on Tap meets on the third Wednesday of every month at 6:00 pm at Lake Time Brewery. Doubt: A Parable: Doubt is set in a Bronx Catholic school in 1964\, where a strong-minded woman wrestles with conscience and uncertainty as she is faced with concerns about one of her male colleagues. This new play by John Patrick Shanley&mdash\;the Bronx-born-and-bred playwright and Academy Award-winning author of Moonstruck&mdash\;dramatizes issues straight from today&rsquo\;s headlines within a world re-created with knowing detail and a judicious eye.
LOCATION:Lake Time Brewery 801 Main Ave
UID:e.1102.741050
SEQUENCE:3
DTSTAMP:20260419T135546Z
URL:https://members.clearlakeiowa.com/events/details/books-on-tap-doubt-741050
END:VEVENT

END:VCALENDAR
