BEGIN:VCALENDAR
VERSION:2.0
PRODID:-//ChamberMaster//Event Calendar 2.0//EN
METHOD:PUBLISH
X-PUBLISHED-TTL:P3D
REFRESH-INTERVAL:P3D
CALSCALE:GREGORIAN
BEGIN:VEVENT
DTSTART:20191015T170000Z
DTEND:20191015T180000Z
X-MICROSOFT-CDO-ALLDAYEVENT:FALSE
SUMMARY:Book Chat: River of Doubt
DESCRIPTION:Monthly book discussion group. This month we will be discussing\, The River of Doubt by Candice Millard
X-ALT-DESC;FMTTYPE=text/html:Monthly book discussion group. This month we will be discussing\, The River of Doubt by Candice Millard
LOCATION:Clear Lake Public Library
UID:e.1102.732175
SEQUENCE:3
DTSTAMP:20260421T183929Z
URL:https://members.clearlakeiowa.com/events/details/book-chat-river-of-doubt-732175
END:VEVENT

END:VCALENDAR
