BEGIN:VCALENDAR
VERSION:2.0
PRODID:-//ChamberMaster//Event Calendar 2.0//EN
METHOD:PUBLISH
X-PUBLISHED-TTL:P3D
REFRESH-INTERVAL:P3D
CALSCALE:GREGORIAN
BEGIN:VEVENT
DTSTART:20191217T180000Z
DTEND:20191217T190000Z
X-MICROSOFT-CDO-ALLDAYEVENT:FALSE
SUMMARY:Book Chat: Best Reads 2019
DESCRIPTION:No Book handed out for December. Meeting will still be held December 17 at 12-1pm. Discuss your favorite book of 2019! Snacks will be provided for this holiday-ish recap book chat. Be sure to bring your recollection caps and book notes for this book chat discussion of your favorite books you read in 2019. We will also discuss\, books coming out in 2020. As well as books that are slated to become movies in 2020.
X-ALT-DESC;FMTTYPE=text/html:No Book handed out for December. Meeting will still be held December 17 at 12-1pm. Discuss your favorite book of 2019! Snacks will be provided for this holiday-ish recap book chat. Be sure to bring your recollection caps and book notes for this book chat discussion of your favorite books you read in 2019. We will also discuss\, books coming out in 2020. As well as books that are slated to become movies in 2020.
LOCATION:Clear Lake Public Library
UID:e.1102.732297
SEQUENCE:3
DTSTAMP:20260421T160852Z
URL:https://members.clearlakeiowa.com/events/details/book-chat-best-reads-2019-732297
END:VEVENT

END:VCALENDAR
