BEGIN:VCALENDAR
VERSION:2.0
PRODID:-//ChamberMaster//Event Calendar 2.0//EN
METHOD:PUBLISH
X-PUBLISHED-TTL:P3D
REFRESH-INTERVAL:P3D
CALSCALE:GREGORIAN
BEGIN:VEVENT
DTSTART:20260326T180000Z
DTEND:20260326T230000Z
X-MICROSOFT-CDO-ALLDAYEVENT:FALSE
SUMMARY:Blood Drive - Cabin Coffee
DESCRIPTION:Cabin Coffee Support Center is partnering with LifeServe Blood Center to host a community blood drive on March 26 from 1:00 6:00 PM. Community members are invited to donate blood and help support local hospitals and patients in need. Appointments are encouraged\, and walk-ins are welcome as space allows. Join us in making a life-saving difference right here in our community!
X-ALT-DESC;FMTTYPE=text/html:Cabin Coffee Support Center is partnering with LifeServe Blood Center to host a community blood drive on March 26 from 1:00&ndash\;6:00 PM. Community members are invited to donate blood and help support local hospitals and patients in need. Appointments are encouraged\, and walk-ins are welcome as space allows. Join us in making a life-saving difference right here in our community!
LOCATION:Cabin Coffee Support Center 408 S 15th St. Clear Lake IA 50428
UID:e.1102.741070
SEQUENCE:3
DTSTAMP:20260419T125018Z
URL:https://members.clearlakeiowa.com/events/details/blood-drive-cabin-coffee-741070
END:VEVENT

END:VCALENDAR
