BEGIN:VCALENDAR
VERSION:2.0
PRODID:-//ChamberMaster//Event Calendar 2.0//EN
METHOD:PUBLISH
X-PUBLISHED-TTL:P3D
REFRESH-INTERVAL:P3D
CALSCALE:GREGORIAN
BEGIN:VEVENT
DTSTART:20260323T233000Z
DTEND:20260324T013000Z
X-MICROSOFT-CDO-ALLDAYEVENT:FALSE
SUMMARY:BINGO Night at the VFW
DESCRIPTION:Good times for a good cause! Proceeds from every game support local charities and veteran programs. VFW BINGO happens the 2nd & 4th Mondays\, 6:30 8:30 p.m. Must be 21+ to play.
X-ALT-DESC;FMTTYPE=text/html:Good times for a good cause! Proceeds from every game support local charities and veteran programs.&nbsp\;<strong data-end="238" data-start="225">VFW BINGO</strong> happens the 2nd &amp\; 4th Mondays\, 6:30&ndash\;8:30 p.m. Must be 21+ to play.
LOCATION:219 Main Avenue
UID:e.1102.740417
SEQUENCE:3
DTSTAMP:20260419T125806Z
URL:https://members.clearlakeiowa.com/events/details/bingo-night-at-the-vfw-03-23-2026-740417
END:VEVENT

END:VCALENDAR
