BEGIN:VCALENDAR
VERSION:2.0
PRODID:-//ChamberMaster//Event Calendar 2.0//EN
METHOD:PUBLISH
X-PUBLISHED-TTL:P3D
REFRESH-INTERVAL:P3D
CALSCALE:GREGORIAN
BEGIN:VEVENT
DTSTART:20260318T230000Z
DTEND:20260319T010000Z
X-MICROSOFT-CDO-ALLDAYEVENT:FALSE
SUMMARY:BINGO Night at Reserve 173°
DESCRIPTION:Get ready Clear Lake! We're bringing the one and only Bingo Daddy to Reserve 173  Bar & Grill for a weekly night of laughs\, prizes\, and good vibes.
X-ALT-DESC;FMTTYPE=text/html:<span style="font-size:12px\;"><span style="font-family:arial\;"><span style="color: rgb(8\, 8\, 9)\;">Get ready Clear Lake! We&#39\;re bringing the one and only Bingo Daddy to Reserve 173&deg\; Bar &amp\; Grill for a weekly night of laughs\, prizes\, and good vibes.</span></span></span>
LOCATION:Reserve 173 Bar & Grill\, 306 1st Ave N
UID:e.1102.740631
SEQUENCE:3
DTSTAMP:20260419T125843Z
URL:https://members.clearlakeiowa.com/events/details/bingo-night-at-reserve-173-03-18-2026-740631
END:VEVENT

END:VCALENDAR
