BEGIN:VCALENDAR
VERSION:2.0
PRODID:-//ChamberMaster//Event Calendar 2.0//EN
METHOD:PUBLISH
X-PUBLISHED-TTL:P3D
REFRESH-INTERVAL:P3D
CALSCALE:GREGORIAN
BEGIN:VEVENT
DTSTART:20210701T220000Z
DTEND:20210702T000000Z
X-MICROSOFT-CDO-ALLDAYEVENT:FALSE
SUMMARY:Betty & Tom @ Sharkys
DESCRIPTION:Betty & Tom of the Gents are playing an acoustic Duo for our listening pleasure this Thursday for the first days of the Carnival @ Sharkys Come for the music here and later at the Bandshell !!
X-ALT-DESC;FMTTYPE=text/html:Betty &amp\; Tom of the Gents are playing an acoustic Duo for our listening pleasure this Thursday for the first days of the Carnival @ Sharkys Come for the music here and later at the Bandshell !!
LOCATION:12 South Shore Dr.
UID:e.1102.733786
SEQUENCE:3
DTSTAMP:20260420T050230Z
URL:https://members.clearlakeiowa.com/events/details/betty-tom-sharkys-733786
END:VEVENT

END:VCALENDAR
