BEGIN:VCALENDAR
VERSION:2.0
PRODID:-//ChamberMaster//Event Calendar 2.0//EN
METHOD:PUBLISH
X-PUBLISHED-TTL:P3D
REFRESH-INTERVAL:P3D
CALSCALE:GREGORIAN
BEGIN:VEVENT
DTSTART:20211016T140000Z
DTEND:20211016T210000Z
X-MICROSOFT-CDO-ALLDAYEVENT:FALSE
SUMMARY:Best of If: Gathering
DESCRIPTION:IF:GATHERING is not only an event\, but a discipleship ministry focused on putting tools and resources in the hands of women in the church. Through these\, IF is able to empower women to reclaim discipleship as God's means to change the world. We're taking the pieces of the last few years of IF and compiling them into the BEST OF: IF GATHERING
X-ALT-DESC;FMTTYPE=text/html:IF:GATHERING is not only an event\, but a discipleship ministry focused on putting tools and resources in the hands of women in the church. Through these\, IF is able to empower women to reclaim discipleship as God&#39\;s means to change the world. We&#39\;re taking the pieces of the last few years of IF and compiling them into the BEST OF: IF GATHERING
LOCATION:The Blackbox - 20 N. 5th Street
UID:e.1102.733823
SEQUENCE:3
DTSTAMP:20260423T135917Z
URL:https://members.clearlakeiowa.com/events/details/best-of-if-gathering-733823
END:VEVENT

END:VCALENDAR
