BEGIN:VCALENDAR
VERSION:2.0
PRODID:-//ChamberMaster//Event Calendar 2.0//EN
METHOD:PUBLISH
X-PUBLISHED-TTL:P3D
REFRESH-INTERVAL:P3D
CALSCALE:GREGORIAN
BEGIN:VEVENT
DTSTART:20260425T000000Z
DTEND:20260425T030000Z
X-MICROSOFT-CDO-ALLDAYEVENT:FALSE
SUMMARY:Beau Bonner at Lake View Pub
DESCRIPTION:We have Beau Bonner back on stage at Lake View Pub! Come unwind\, sip on a cocktail\, and enjoy Beau's music!
X-ALT-DESC;FMTTYPE=text/html:We have Beau Bonner back on stage at Lake View Pub! Come unwind\, sip on a cocktail\, and enjoy Beau&#39\;s music!
LOCATION:Lake View Pub 18 N 3rd St Suite 200 Clear Lake\, IA
UID:e.1102.741424
SEQUENCE:3
DTSTAMP:20260423T071757Z
URL:https://members.clearlakeiowa.com/events/details/beau-bonner-at-lake-view-pub-741424
END:VEVENT

END:VCALENDAR
