BEGIN:VCALENDAR
VERSION:2.0
PRODID:-//ChamberMaster//Event Calendar 2.0//EN
METHOD:PUBLISH
X-PUBLISHED-TTL:P3D
REFRESH-INTERVAL:P3D
CALSCALE:GREGORIAN
BEGIN:VEVENT
DTSTART;VALUE=DATE:20260815
DTEND;VALUE=DATE:20260816
TRANSP:TRANSPARENT
X-MICROSOFT-CDO-ALLDAYEVENT:TRUE
SUMMARY:Bash at the Lake
DESCRIPTION:Get READY TO BASH! Bash at the Lake is an EPIC day of inspirational Christian music and family fun at Clear Lake City Park. We are all about bringing our community together for a day you'll never forget. \n\n \n\nWe are PUMPED to feature incredible national and regional Christian artists on our stage. It is the perfect day for the whole family\, with plenty of games and kids' activities to keep the little ones moving and smiling throughout the event. \n\n \n\nBest of all? Bash at the Lake is FREE for everyone. We NEVER sell tickets. This event is a gift to our community\, 100% funded by our PARTNERS the amazing donors and sponsors who make this celebration possible. We can't wait to see you there!
X-ALT-DESC;FMTTYPE=text/html:<p>Get READY TO BASH! Bash at the Lake is an EPIC day of inspirational Christian music and family fun at Clear Lake City Park. We are all about bringing our community together for a day you&rsquo\;ll never forget.&nbsp\;<br />\n&nbsp\;<br />\nWe are PUMPED to feature incredible national and regional Christian artists on our stage. It is the perfect day for the whole family\, with plenty of games and kids&#39\; activities to keep the little ones moving and smiling throughout the event.&nbsp\;<br />\n&nbsp\;<br />\nBest of all? Bash at the Lake is FREE for everyone. We NEVER sell tickets. This event is a gift to our community\, 100% funded by our PARTNERS&mdash\;the amazing donors and sponsors who make this celebration possible. We can&rsquo\;t wait to see you there!</p>\n
LOCATION:City Park
UID:e.1102.740507
SEQUENCE:3
DTSTAMP:20260419T163055Z
URL:https://members.clearlakeiowa.com/events/details/bash-at-the-lake-740507
END:VEVENT

END:VCALENDAR
