BEGIN:VCALENDAR
VERSION:2.0
PRODID:-//ChamberMaster//Event Calendar 2.0//EN
METHOD:PUBLISH
X-PUBLISHED-TTL:P3D
REFRESH-INTERVAL:P3D
CALSCALE:GREGORIAN
BEGIN:VEVENT
DTSTART:20210720T230000Z
DTEND:20210721T003000Z
X-MICROSOFT-CDO-ALLDAYEVENT:FALSE
SUMMARY:Backyard Friends and Foes
DESCRIPTION:Central Gardens of North Iowa and Cerro Gordo ISU Extension and Outreach are teaming up to offer a special speaker series entitled Backyard Friends and Foes. An exciting lineup of speakers will share information that will be of interest to any backyard gardener or nature lover. The sessions are planned for outside but will move inside the Nature Education Pavilion if necessary. Each session is free and no registration is required. The topic for this talk on July 20 is Insect Pests\, presented by Dr. Donald Lewis. Dr. Donald Lewis is an entomology professor at Iowa State University and can frequently be heard on Iowa Public Radio's Horticulture Friday. At each of Dr. Lewis's sessions insect samples are welcomed and encouraged!
X-ALT-DESC;FMTTYPE=text/html:Central Gardens of North Iowa and Cerro Gordo ISU Extension and Outreach are teaming up to offer a special speaker series entitled Backyard Friends and Foes. An exciting lineup of speakers will share information that will be of interest to any backyard gardener or nature lover. The sessions are planned for outside but will move inside the Nature Education Pavilion if necessary. Each session is free and no registration is required. The topic for this talk on July 20 is Insect Pests\, presented by Dr. Donald Lewis. Dr. Donald Lewis is an entomology professor at Iowa State University and can frequently be heard on Iowa Public Radio&rsquo\;s Horticulture Friday. At each of Dr. Lewis&rsquo\;s sessions insect samples are welcomed and encouraged!
LOCATION:Central Gardens of North Iowa 800 2nd Ave N Clear Lake\, IA
UID:e.1102.733753
SEQUENCE:3
DTSTAMP:20260420T050714Z
URL:https://members.clearlakeiowa.com/events/details/backyard-friends-and-foes-07-20-2021-733753
END:VEVENT

END:VCALENDAR
