BEGIN:VCALENDAR
VERSION:2.0
PRODID:-//ChamberMaster//Event Calendar 2.0//EN
METHOD:PUBLISH
X-PUBLISHED-TTL:P3D
REFRESH-INTERVAL:P3D
CALSCALE:GREGORIAN
BEGIN:VEVENT
DTSTART:20191026T190000Z
DTEND:20191026T210000Z
X-MICROSOFT-CDO-ALLDAYEVENT:FALSE
SUMMARY:Artist Talk and Closing Receptioin
DESCRIPTION:Come and meet Laura Migliorino and here her talk about her photographs and process for the exhibition Absentia: Abandoned Past.
X-ALT-DESC;FMTTYPE=text/html:Come and meet Laura Migliorino and here her talk about her photographs and process for the exhibition Absentia: Abandoned Past.
LOCATION:Clear Lake Arts Center
UID:e.1102.732411
SEQUENCE:3
DTSTAMP:20260421T184713Z
URL:https://members.clearlakeiowa.com/events/details/artist-talk-and-closing-receptioin-732411
END:VEVENT

END:VCALENDAR
