BEGIN:VCALENDAR
VERSION:2.0
PRODID:-//ChamberMaster//Event Calendar 2.0//EN
METHOD:PUBLISH
X-PUBLISHED-TTL:P3D
REFRESH-INTERVAL:P3D
CALSCALE:GREGORIAN
BEGIN:VEVENT
DTSTART:20191012T230000Z
DTEND:20191013T020000Z
X-MICROSOFT-CDO-ALLDAYEVENT:FALSE
SUMMARY:Art of the Story
DESCRIPTION:Join us to hear stories of "My Ten Minutes of Fame." This event is part of the Culture Arts Series from the Clear Lake Arts Center and in partnership with Central Gardens of North Iowa.
X-ALT-DESC;FMTTYPE=text/html:Join us to hear stories of &quot\;My Ten Minutes of Fame.&quot\; This event is part of the Culture Arts Series from the Clear Lake Arts Center and in partnership with Central Gardens of North Iowa.
LOCATION:Clear Lake Arts Center
UID:e.1102.732288
SEQUENCE:3
DTSTAMP:20260421T184823Z
URL:https://members.clearlakeiowa.com/events/details/art-of-the-story-732288
END:VEVENT

END:VCALENDAR
