BEGIN:VCALENDAR
VERSION:2.0
PRODID:-//ChamberMaster//Event Calendar 2.0//EN
METHOD:PUBLISH
X-PUBLISHED-TTL:P3D
REFRESH-INTERVAL:P3D
CALSCALE:GREGORIAN
BEGIN:VEVENT
DTSTART:20190901T140000Z
DTEND:20190901T213000Z
X-MICROSOFT-CDO-ALLDAYEVENT:FALSE
SUMMARY:Antiques in the Square
DESCRIPTION:26th Annual Event featuring more than 60 antique dealers selling primitives\, pottery\, glass\, furniture\, collectibles\, and more! Held rain or shine in historic City Park. Free admission.
X-ALT-DESC;FMTTYPE=text/html:<span class="event-description">26th Annual Event featuring more than 60 antique dealers selling primitives\, pottery\, glass\, furniture\, collectibles\, and more! Held rain or shine in historic City Park. Free admission.</span>
LOCATION:City Park
UID:e.1102.731531
SEQUENCE:3
DTSTAMP:20260421T201808Z
URL:https://members.clearlakeiowa.com/events/details/antiques-in-the-square-731531
END:VEVENT

END:VCALENDAR
