BEGIN:VCALENDAR
VERSION:2.0
PRODID:-//ChamberMaster//Event Calendar 2.0//EN
METHOD:PUBLISH
X-PUBLISHED-TTL:P3D
REFRESH-INTERVAL:P3D
CALSCALE:GREGORIAN
BEGIN:VEVENT
DTSTART:20260318T233000Z
DTEND:20260319T003000Z
X-MICROSOFT-CDO-ALLDAYEVENT:FALSE
SUMMARY:Alzheimer's\, Dementia & Public Health
DESCRIPTION:Alzheimer's disease is the sixth-leading cause of death in the United States\, and its prevalence is growing. More than five million Americans are affected by Alzheimer's\, but that number is expected to triple by 2050. Is there hope on the horizon?  This program highlights the growing focus of Alzheimer's and dementia in public health\; what causes memory loss\; what the latest research shows in our fight against these conditions\; what can be done to decrease one's risk\; what resources exist and what Iowa HHS is doing to help.
X-ALT-DESC;FMTTYPE=text/html:Alzheimer&rsquo\;s disease is the sixth-leading cause of death in the United States\, and its prevalence is growing. More than five million Americans are affected by Alzheimer&rsquo\;s\, but that number is expected to triple by 2050. Is there hope on the horizon?&nbsp\; This program highlights the growing focus of Alzheimer&rsquo\;s and dementia in public health\; what causes memory loss\; what the latest research shows in our fight against these conditions\; what can be done to decrease one&rsquo\;s risk\; what resources exist and what Iowa HHS is doing to help.
LOCATION:Clear Lake Public Library 200 N 4th St
UID:e.1102.741039
SEQUENCE:3
DTSTAMP:20260419T140620Z
URL:https://members.clearlakeiowa.com/events/details/alzheimer-s-dementia-public-health-741039
END:VEVENT

END:VCALENDAR
