BEGIN:VCALENDAR
VERSION:2.0
PRODID:-//ChamberMaster//Event Calendar 2.0//EN
METHOD:PUBLISH
X-PUBLISHED-TTL:P3D
REFRESH-INTERVAL:P3D
CALSCALE:GREGORIAN
BEGIN:VEVENT
DTSTART:20260502T170000Z
DTEND:20260502T190000Z
X-MICROSOFT-CDO-ALLDAYEVENT:FALSE
SUMMARY:Afternoon Tea
DESCRIPTION:Join us in the meeting room for afternoon tea. We will talk a little bit about the history of afternoon tea\, partake in some themed activities\, and of course have some tea and finger sandwiches. We will be doing a book swap at the same time\, so bring a copy of a book you enjoy. This program is designed for adults. **Registration Required**
X-ALT-DESC;FMTTYPE=text/html:Join us in the meeting room for afternoon tea. We will talk a little bit about the history of afternoon tea\, partake in some themed activities\, and of course have some tea and finger sandwiches. We will be doing a book swap at the same time\, so bring a copy of a book you enjoy. This program is designed for adults. **Registration Required**
LOCATION:Clear Lake Public Library 200 N 4th St
UID:e.1102.741040
SEQUENCE:3
DTSTAMP:20260419T123435Z
URL:https://members.clearlakeiowa.com/events/details/afternoon-tea-741040
END:VEVENT

END:VCALENDAR
