BEGIN:VCALENDAR
VERSION:2.0
PRODID:-//ChamberMaster//Event Calendar 2.0//EN
METHOD:PUBLISH
X-PUBLISHED-TTL:P3D
REFRESH-INTERVAL:P3D
CALSCALE:GREGORIAN
BEGIN:VEVENT
DTSTART:20191205T190000Z
DTEND:20191205T200000Z
X-MICROSOFT-CDO-ALLDAYEVENT:FALSE
SUMMARY:Adult Coloring
DESCRIPTION:First Thursday of every month. Come to the library for adult coloring. Supplies provided.
X-ALT-DESC;FMTTYPE=text/html:First Thursday of every month. Come to the library for adult coloring. Supplies provided.
LOCATION:Clear Lake Public Library
UID:e.1102.731301
SEQUENCE:3
DTSTAMP:20260421T161154Z
URL:https://members.clearlakeiowa.com/events/details/adult-coloring-12-05-2019-731301
END:VEVENT

END:VCALENDAR
