BEGIN:VCALENDAR
VERSION:2.0
PRODID:-//ChamberMaster//Event Calendar 2.0//EN
METHOD:PUBLISH
X-PUBLISHED-TTL:P3D
REFRESH-INTERVAL:P3D
CALSCALE:GREGORIAN
BEGIN:VEVENT
DTSTART:20191003T180000Z
DTEND:20191003T190000Z
X-MICROSOFT-CDO-ALLDAYEVENT:FALSE
SUMMARY:Adult Coloring
DESCRIPTION:First Thursday of every month. Come to the library for adult coloring. Supplies provided.
X-ALT-DESC;FMTTYPE=text/html:First Thursday of every month. Come to the library for adult coloring. Supplies provided.
LOCATION:Clear Lake Public Library
UID:e.1102.731299
SEQUENCE:3
DTSTAMP:20260421T194644Z
URL:https://members.clearlakeiowa.com/events/details/adult-coloring-10-03-2019-731299
END:VEVENT

END:VCALENDAR
