BEGIN:VCALENDAR
VERSION:2.0
PRODID:-//ChamberMaster//Event Calendar 2.0//EN
METHOD:PUBLISH
X-PUBLISHED-TTL:P3D
REFRESH-INTERVAL:P3D
CALSCALE:GREGORIAN
BEGIN:VEVENT
DTSTART:20211015T213000Z
DTEND:20211015T233000Z
X-MICROSOFT-CDO-ALLDAYEVENT:FALSE
SUMMARY:9th Annual Halloween Party hosted by the Children's Autism Center
DESCRIPTION:Join One Vision's Children's Autism Center staff at the 9th Annual Halloween Party for children with disabilities and their families co-hosted by Plain Ole' Pumpkins and other great supporters.  Enjoy photo opportunities\, pumpkin picking\, pedal tractors\, hay ride\, slide\, grain basketball\, corn maze\, corn pool\, and a fire pit.  Friendly costumes are encouraged but not required.
X-ALT-DESC;FMTTYPE=text/html:Join One Vision&#39\;s Children&#39\;s Autism Center staff at the 9th Annual Halloween Party for children with disabilities and their families co-hosted by Plain Ole&#39\; Pumpkins and other great supporters.&nbsp\; Enjoy photo opportunities\, pumpkin picking\, pedal tractors\, hay ride\, slide\, grain basketball\, corn maze\, corn pool\, and a fire pit.&nbsp\; Friendly costumes are encouraged but not required.<br />\n&nbsp\;
LOCATION:Plain Ol' Pumpkins 4333 260th St. Clear Lake\, IA 5028
UID:e.1102.733977
SEQUENCE:3
DTSTAMP:20260423T142207Z
URL:https://members.clearlakeiowa.com/events/details/9th-annual-halloween-party-hosted-by-the-children-s-autism-center-733977
END:VEVENT

END:VCALENDAR
