BEGIN:VCALENDAR
VERSION:2.0
PRODID:-//ChamberMaster//Event Calendar 2.0//EN
METHOD:PUBLISH
X-PUBLISHED-TTL:P3D
REFRESH-INTERVAL:P3D
CALSCALE:GREGORIAN
BEGIN:VEVENT
DTSTART:20260111T190000Z
DTEND:20260111T210000Z
X-MICROSOFT-CDO-ALLDAYEVENT:FALSE
SUMMARY:80's/90's Music Bingo
DESCRIPTION:Join us for 80's/90's Music Bingo! Groove to the greatest hits and mark your bingo card for a chance to win awesome prizes! Free to play.
X-ALT-DESC;FMTTYPE=text/html:Join us for 80&#39\;s/90&#39\;s Music Bingo! Groove to the greatest hits and mark your bingo card for a chance to win awesome prizes! Free to play.
LOCATION:Lake Pin and Play 514 Buddy Holly Place
UID:e.1102.740746
SEQUENCE:3
DTSTAMP:20260419T204313Z
URL:https://members.clearlakeiowa.com/events/details/80-s-90-s-music-bingo-740746
END:VEVENT

END:VCALENDAR
