BEGIN:VCALENDAR
VERSION:2.0
PRODID:-//ChamberMaster//Event Calendar 2.0//EN
METHOD:PUBLISH
X-PUBLISHED-TTL:P3D
REFRESH-INTERVAL:P3D
CALSCALE:GREGORIAN
BEGIN:VEVENT
DTSTART;VALUE=DATE:20260925
DTEND;VALUE=DATE:20260928
TRANSP:TRANSPARENT
X-MICROSOFT-CDO-ALLDAYEVENT:TRUE
SUMMARY:2026 North Iowa Studio Tour
DESCRIPTION:Join for 2026 North Iowa Studio Tour! the last weekend of September for a self-guided adventure through North Iowa's vibrant art scene. Explore over 25 artist studios and booths\, meet the makers\, watch live demonstrations\, and take home unique works of art and craft straight from the hands that created them.
X-ALT-DESC;FMTTYPE=text/html:Join for 2026 North Iowa Studio Tour! the last weekend of September for a self-guided adventure through North Iowa&rsquo\;s vibrant art scene. Explore over 25 artist studios and booths\, meet the makers\, watch live demonstrations\, and take home unique works of art and craft straight from the hands that created them.
LOCATION:Clear Lake Arts Center\, Artist Studio Locations live on CLAC Website
UID:e.1102.740213
SEQUENCE:3
DTSTAMP:20260419T190518Z
URL:https://members.clearlakeiowa.com/events/details/2026-north-iowa-studio-tour-740213
END:VEVENT

END:VCALENDAR
